BEGIN:VCALENDAR
VERSION:2.0
PRODID:-//Virginia Career Works Central Region - ECPv6.15.20//NONSGML v1.0//EN
CALSCALE:GREGORIAN
METHOD:PUBLISH
X-ORIGINAL-URL:https://vcwcentralregion.com
X-WR-CALDESC:Events for Virginia Career Works Central Region
REFRESH-INTERVAL;VALUE=DURATION:PT1H
X-Robots-Tag:noindex
X-PUBLISHED-TTL:PT1H
BEGIN:VTIMEZONE
TZID:America/New_York
BEGIN:DAYLIGHT
TZOFFSETFROM:-0500
TZOFFSETTO:-0400
TZNAME:EDT
DTSTART:20200308T070000
END:DAYLIGHT
BEGIN:STANDARD
TZOFFSETFROM:-0400
TZOFFSETTO:-0500
TZNAME:EST
DTSTART:20201101T060000
END:STANDARD
BEGIN:DAYLIGHT
TZOFFSETFROM:-0500
TZOFFSETTO:-0400
TZNAME:EDT
DTSTART:20210314T070000
END:DAYLIGHT
BEGIN:STANDARD
TZOFFSETFROM:-0400
TZOFFSETTO:-0500
TZNAME:EST
DTSTART:20211107T060000
END:STANDARD
BEGIN:DAYLIGHT
TZOFFSETFROM:-0500
TZOFFSETTO:-0400
TZNAME:EDT
DTSTART:20220313T070000
END:DAYLIGHT
BEGIN:STANDARD
TZOFFSETFROM:-0400
TZOFFSETTO:-0500
TZNAME:EST
DTSTART:20221106T060000
END:STANDARD
END:VTIMEZONE
BEGIN:VEVENT
DTSTART;TZID=America/New_York:20211215T100000
DTEND;TZID=America/New_York:20211215T110000
DTSTAMP:20260422T232308
CREATED:20211203T234524Z
LAST-MODIFIED:20211203T234524Z
UID:18830-1639562400-1639566000@vcwcentralregion.com
SUMMARY:Central Virginia Workforce Development Board - Diversity\, Equity\, & Inclusion Committee Meeting
DESCRIPTION:The Diversity\, Equity\, and Inclusion Committee of the Central Virginia Workforce Development Board will meet Wednesday\, December 15\, 2021 at 10AM. This meeting will take place virtually. Please use the link provided below to attend the meeting. \n________________________________________________________________________________ \nMicrosoft Teams meeting \nJoin on your computer or mobile app \nClick here to join the meeting \nOr call in (audio only) \n+1 434-338-7731\,\,933445661#   United States\, Lynchburg \nPhone Conference ID: 933 445 661# \nFind a local number | Reset PIN \nOffice: (434) 455-5940 Hours: Monday\, Tuesday\, Thursday\, Friday (8:30 am – 4:30 pm) Wednesday (9:30 am – 4:30 pm) \nLearn More | Meeting options
URL:https://vcwcentralregion.com/event/central-virginia-workforce-development-board-diversity-equity-inclusion-committee-meeting/
LOCATION:VA
CATEGORIES:Meetings
END:VEVENT
END:VCALENDAR